BEGIN:VCALENDAR
VERSION:2.0
PRODID:-//eventon.com NONSGML v1.0//EN
BEGIN:VEVENT
UID:69e5f634f26f7
DTSTAMP:20260420T114732
DTSTART:20190615T215900Z
DTEND:20190615T215000Z
LOCATION:Sektor Evolution An der Eisenbahn 2 01099 Dresden
SUMMARY:BRN im Exil 2019
DESCRIPTION: Urge to Move and Sektor Evolution present: ► # Mainfloor by URGE TO MOVE Drum and Bass (Neurofunk / Hard DNB / Crossbreed / Deep) ► # Sidefloor Techno / Elektro / Techhouse / Rave ► # Tentfloor Experimental/ Darkpsy / Forest / Hitech / Zenon 3 R D K[..]
END:VEVENT
END:VCALENDAR