BEGIN:VCALENDAR
VERSION:2.0
PRODID:-//eventon.com NONSGML v1.0//EN
BEGIN:VEVENT
UID:69e5efb5082ff
DTSTAMP:20260420T111949
DTSTART:20190914T210000Z
DTEND:20190914T215000Z
LOCATION:Paula Meschwitzstraße 8\,  01099 Dresden
SUMMARY:Liquid Transmission #4 Phaction (Metalheadz\,  Shogun Audio)
DESCRIPTION: Die Sommerpause neigt sich so langsam dem Ende zu. Wir haben sie ausreichend genossen\,  um nun mit frischen Kräften in die zweite Jahreshälfte zu starten. Somit laden wir euch alle recht herzlichst zur\,  etwas düsteren\,  Liquid Transmission 4 ein. Wir freuen uns sehr einen außerordentlich begabten Künstler\,  wie Phaction\,  an[..]
END:VEVENT
END:VCALENDAR