BEGIN:VCALENDAR
VERSION:2.0
PRODID:-//eventon.com NONSGML v1.0//EN
BEGIN:VEVENT
UID:69e88becf3343
DTSTAMP:20260422T105052
DTSTART:20200320T210000Z
DTEND:20200320T043000Z
LOCATION:mjut Lagerhofstraße 2\,  04103 Leipzig\,  Germany
SUMMARY:Beneath the Mask 4 w/ Snookey & Phantom Warrior
DESCRIPTION: B E N E A T H . T H E . M A S K . 4 DRUM AND BASS ON 2 FLOORS MJUT / URGE TO MOVE / VBA CREW / SPECTER & ENRAGE Wer sich hier hinter der Maske verbirgt\,  ist schon länger kein Geheimnis mehr: Hier[..]
END:VEVENT
END:VCALENDAR